BEGIN:VCALENDAR
VERSION:2.0
PRODID:-//Restored website//NONSGML kigkonsult.se iCalcreator 2.30.10//
CALSCALE:GREGORIAN
METHOD:PUBLISH
UID:e71e0e77-34ca-4964-ac51-bdb0b5932a6e
X-WR-CALNAME:iCagenda
X-WR-CALDESC:Event Management Extension for Joomla!
X-WR-RELCALID:3E26604A-50F4-4449-8B3E-E4F4932D05B5
X-WR-TIMEZONE:UTC
BEGIN:VTIMEZONE
TZID:UTC
END:VTIMEZONE
BEGIN:VEVENT
UID:535f0c1a-5a13-45d3-b620-0adc30b66107
DTSTAMP:20260424T065018Z
CATEGORIES:Tennis_Arbeitseinsatz
CLASS:PUBLIC
DESCRIPTION:
DTSTART:20231014T100000Z
DTEND:20231014T100000Z
GEO:00;0
LOCATION:
ORGANIZER:
SEQUENCE:1
SUMMARY:6. Arbeitseinsatz (eventuell)
TRANSP:OPAQUE
URL:https://phantasie.org/index.php/component/icagenda/133-6-arbeitseinsatz
 -eventuell/2023-10-14-10-00?Itemid=101
END:VEVENT
END:VCALENDAR
