BEGIN:VCALENDAR
VERSION:2.0
PRODID:-//Restored website//NONSGML kigkonsult.se iCalcreator 2.30.10//
CALSCALE:GREGORIAN
METHOD:PUBLISH
UID:9a752bf7-29ad-4f58-a32b-13960d5c31e3
X-WR-CALNAME:iCagenda
X-WR-CALDESC:Event Management Extension for Joomla!
X-WR-RELCALID:3E26604A-50F4-4449-8B3E-E4F4932D05B5
X-WR-TIMEZONE:UTC
BEGIN:VTIMEZONE
TZID:UTC
END:VTIMEZONE
BEGIN:VEVENT
UID:d30ff437-21a7-4451-938e-df52b9f7360e
DTSTAMP:20260424T154608Z
CATEGORIES:Tennis_Arbeitseinsatz
CLASS:PUBLIC
DESCRIPTION:
DTSTART:20231020T150000Z
DTEND:20231020T150000Z
GEO:00;0
LOCATION:
ORGANIZER:
SEQUENCE:1
SUMMARY:7. Arbeitseinsatz (eventuell)
TRANSP:OPAQUE
URL:https://phantasie.org/index.php/component/icagenda/134-7-arbeitseinsatz
 -eventuel/2023-10-20-15-00?Itemid=101
END:VEVENT
END:VCALENDAR
