BEGIN:VCALENDAR
VERSION:2.0
PRODID:-//Restored website//NONSGML kigkonsult.se iCalcreator 2.30.10//
CALSCALE:GREGORIAN
METHOD:PUBLISH
UID:55bdd9a7-93c6-47b7-99d7-b5fca6ddd6c9
X-WR-CALNAME:iCagenda
X-WR-CALDESC:Event Management Extension for Joomla!
X-WR-RELCALID:3E26604A-50F4-4449-8B3E-E4F4932D05B5
X-WR-TIMEZONE:UTC
BEGIN:VTIMEZONE
TZID:UTC
END:VTIMEZONE
BEGIN:VEVENT
UID:f583fcf6-bd07-4633-b139-ab708b4689ec
DTSTAMP:20260420T233757Z
CATEGORIES:E2-Junioren (U11)
CLASS:PUBLIC
DESCRIPTION:
DTSTART:20231014T111500Z
DTEND:20231014T111500Z
GEO:00;0
LOCATION:
ORGANIZER:
SEQUENCE:1
SUMMARY:E2: SVV Weigenheim 2 - SG Bgbh/Mktb 2
TRANSP:OPAQUE
URL:https://phantasie.org/index.php/component/icagenda/179-e2-svv-weigenhei
 m-2-sg-bgbh-mktb-2/2023-10-14-11-15?Itemid=101
END:VEVENT
END:VCALENDAR
