BEGIN:VCALENDAR
VERSION:2.0
PRODID:-//Restored website//NONSGML kigkonsult.se iCalcreator 2.30.10//
CALSCALE:GREGORIAN
METHOD:PUBLISH
UID:7a7cd586-bc82-4299-b124-24e722418a6b
X-WR-CALNAME:iCagenda
X-WR-CALDESC:Event Management Extension for Joomla!
X-WR-RELCALID:3E26604A-50F4-4449-8B3E-E4F4932D05B5
X-WR-TIMEZONE:UTC
BEGIN:VTIMEZONE
TZID:UTC
END:VTIMEZONE
BEGIN:VEVENT
UID:e89f41e3-20e1-4262-9163-b9f2778ef0f4
DTSTAMP:20260419T211003Z
CATEGORIES:Spiele_Volleyball_Maenner
CLASS:PUBLIC
DESCRIPTION:
DTSTART:20231111T140000Z
DTEND:20231111T140000Z
GEO:00;0
LOCATION:Spielort: Ansbach
ORGANIZER:
SEQUENCE:1
SUMMARY:TSV Ansbach II - TSV Dinkelsbühl II - TSV-Mä
TRANSP:OPAQUE
URL:https://phantasie.org/index.php/component/icagenda/195-tsv-ansbach-ii-t
 sv-dinkelsbuehl-ii-tsv/2023-11-11-14-00?Itemid=101
END:VEVENT
END:VCALENDAR
