BEGIN:VCALENDAR
VERSION:2.0
PRODID:-//Restored website//NONSGML kigkonsult.se iCalcreator 2.30.10//
CALSCALE:GREGORIAN
METHOD:PUBLISH
UID:20ba47e2-25fa-4a60-9b24-3d8682d14178
X-WR-CALNAME:iCagenda
X-WR-CALDESC:Event Management Extension for Joomla!
X-WR-RELCALID:3E26604A-50F4-4449-8B3E-E4F4932D05B5
X-WR-TIMEZONE:UTC
BEGIN:VTIMEZONE
TZID:UTC
END:VTIMEZONE
BEGIN:VEVENT
UID:f9660800-0b22-4873-95fd-26aafd638c41
DTSTAMP:20260423T060706Z
CATEGORIES:Spiele_U12m
CLASS:PUBLIC
DESCRIPTION:
DTSTART:20231008T100000Z
DTEND:20231008T100000Z
GEO:00;0
LOCATION:Spielort: Ezelsdorf
ORGANIZER:
SEQUENCE:1
SUMMARY:SV Rednitzhembach - TSV Zirndorf IV - TSV
TRANSP:OPAQUE
URL:https://phantasie.org/index.php/component/icagenda/201-sv-rednitzhembac
 h-tsv-zirndorf-iv-tsv/2023-10-08-10-00?Itemid=101
END:VEVENT
END:VCALENDAR
