BEGIN:VCALENDAR
VERSION:2.0
PRODID:-//Restored website//NONSGML kigkonsult.se iCalcreator 2.30.10//
CALSCALE:GREGORIAN
METHOD:PUBLISH
UID:5f0e9051-8607-4387-9316-6db3a72caf8c
X-WR-CALNAME:iCagenda
X-WR-CALDESC:Event Management Extension for Joomla!
X-WR-RELCALID:3E26604A-50F4-4449-8B3E-E4F4932D05B5
X-WR-TIMEZONE:UTC
BEGIN:VTIMEZONE
TZID:UTC
END:VTIMEZONE
BEGIN:VEVENT
UID:3d05a3fe-6796-48cd-9ee5-520fb99be8c3
DTSTAMP:20260421T191228Z
CATEGORIES:Rugby
CLASS:PUBLIC
DESCRIPTION:
DTSTART:20231111T100000Z
DTEND:20231111T100000Z
GEO:00;0
LOCATION:Sportplatz oder Sporthalle
ORGANIZER:
SEQUENCE:1
SUMMARY:Rugby-Jugendturnier in Burgbernheim
TRANSP:OPAQUE
URL:https://phantasie.org/index.php/component/icagenda/213-rugby-jugendturn
 ier/2023-11-11-10-00?Itemid=101
END:VEVENT
END:VCALENDAR
