BEGIN:VCALENDAR
VERSION:2.0
PRODID:-//Restored website//NONSGML kigkonsult.se iCalcreator 2.30.10//
CALSCALE:GREGORIAN
METHOD:PUBLISH
UID:27e48c38-aa31-4d42-80fb-07832c0865aa
X-WR-CALNAME:iCagenda
X-WR-CALDESC:Event Management Extension for Joomla!
X-WR-RELCALID:3E26604A-50F4-4449-8B3E-E4F4932D05B5
X-WR-TIMEZONE:UTC
BEGIN:VTIMEZONE
TZID:UTC
END:VTIMEZONE
BEGIN:VEVENT
UID:8bb40cf4-eb6c-45fa-9ad9-c5813fa3da3e
DTSTAMP:20260422T072304Z
CATEGORIES:Fußball-Zweite
CLASS:PUBLIC
DESCRIPTION;ALTREP="CID:<FFFF__=0ABBE548DFE235B58f9e8a93d@coffeebean.com>":
 Verbandsspiel
DTSTART:20230827T130000Z
DTEND:20230827T130000Z
GEO:00;0
LOCATION:Spielort: Gallmersgarten
ORGANIZER:
SEQUENCE:1
SUMMARY:Zweite: SG Burgbernheim / Gallmersgarten II - TSG Geslau - Buch a.W
 . II
TRANSP:OPAQUE
URL:https://phantasie.org/index.php/component/icagenda/22-zweite-sg-burgber
 nheim-gallmersgarten-tsg-geslau-buch-a-w-ii/2023-08-27-13-00?Itemid=101
END:VEVENT
END:VCALENDAR
