BEGIN:VCALENDAR
VERSION:2.0
PRODID:-//Restored website//NONSGML kigkonsult.se iCalcreator 2.30.10//
CALSCALE:GREGORIAN
METHOD:PUBLISH
UID:b57062fa-ea77-4a80-9c3f-aa7c8ea0c34f
X-WR-CALNAME:iCagenda
X-WR-CALDESC:Event Management Extension for Joomla!
X-WR-RELCALID:3E26604A-50F4-4449-8B3E-E4F4932D05B5
X-WR-TIMEZONE:UTC
BEGIN:VTIMEZONE
TZID:UTC
END:VTIMEZONE
BEGIN:VEVENT
UID:de45977b-288b-447c-a8b6-63ff2474f617
DTSTAMP:20260421T100019Z
CATEGORIES:Periode
CLASS:PUBLIC
DESCRIPTION;ALTREP="CID:<FFFF__=0ABBE548DFE235B58f9e8a93d@coffeebean.com>":
 &nbsp\;\nIn diesem Workout-Format sind schnelle und langsame Rhythmen auf 
 der Basis von Aerobics kombiniert\,um eine einzigartige Balance von Muskel
 aufbau und - definition sowie Konditionsverbesserung zu erreichen.ZUMBA® i
 ntegriert einige Grundprinzipien von Aerobics\, Intervall- und Widerstands
 training um Fettverbrennungzu maximieren\, Herz und Kreislauf zu stärken u
 nd Muskeln aufzubauen.Zumba Vorkenntnisse sind nicht notwendig!\nKinder Di
 enstags von 17:15 - 18:15 UhrMitglieder 40.-€\, Nichtmitglieder 59.-€Erwac
 hsene Dienstags von 18:15 - 19:15 UhrMitglieder 50.-€\, Nichtmitglieder 79
 .-€Termine: 05.03.2024 - 07.05.2024\,10xSporthalle BurgbernheimInfos und A
 nmeldungTel.: 0170/3147750
DTSTART:20240402T165600Z
DTEND:20240402T165600Z
GEO:00;0
LOCATION:
ORGANIZER:
SEQUENCE:1
SUMMARY:test
TRANSP:OPAQUE
URL:https://phantasie.org/index.php/component/icagenda/237-test/2024-04-02-
 16-56?Itemid=101
END:VEVENT
END:VCALENDAR
