BEGIN:VCALENDAR
VERSION:2.0
PRODID:-//Restored website//NONSGML kigkonsult.se iCalcreator 2.30.10//
CALSCALE:GREGORIAN
METHOD:PUBLISH
UID:4e363be7-e303-45c4-a48a-f521369eb26a
X-WR-CALNAME:iCagenda
X-WR-CALDESC:Event Management Extension for Joomla!
X-WR-RELCALID:3E26604A-50F4-4449-8B3E-E4F4932D05B5
X-WR-TIMEZONE:UTC
BEGIN:VTIMEZONE
TZID:UTC
END:VTIMEZONE
BEGIN:VEVENT
UID:ad96948b-406d-40a7-8027-42f68a2b396c
DTSTAMP:20260423T131637Z
CATEGORIES:Tennis
CLASS:PUBLIC
DESCRIPTION:
DTSTART:20240310T190000Z
DTEND:20240310T190000Z
GEO:00;0
LOCATION:Ristorante Sapori di Casa
ORGANIZER:
SEQUENCE:1
SUMMARY:Abteilungsversammlung
TRANSP:OPAQUE
URL:https://phantasie.org/index.php/component/icagenda/241-abteilungsversam
 mlung/2024-03-10-19-00?Itemid=101
END:VEVENT
END:VCALENDAR
