BEGIN:VCALENDAR
VERSION:2.0
PRODID:-//Restored website//NONSGML kigkonsult.se iCalcreator 2.30.10//
CALSCALE:GREGORIAN
METHOD:PUBLISH
UID:e9214a65-fb23-4b90-8b35-5a746956e7db
X-WR-CALNAME:iCagenda
X-WR-CALDESC:Event Management Extension for Joomla!
X-WR-RELCALID:3E26604A-50F4-4449-8B3E-E4F4932D05B5
X-WR-TIMEZONE:UTC
BEGIN:VTIMEZONE
TZID:UTC
END:VTIMEZONE
BEGIN:VEVENT
UID:ede8525a-d7f7-4ae8-af17-c465aa7b8c3a
DTSTAMP:20260423T081114Z
CATEGORIES:Tennis
CLASS:PUBLIC
DESCRIPTION:
DTSTART:20240315T150000Z
DTEND:20240315T150000Z
GEO:00;0
LOCATION:Tennisplätze
ORGANIZER:
SEQUENCE:1
SUMMARY:Platzarbeiten 1
TRANSP:OPAQUE
URL:https://phantasie.org/index.php/component/icagenda/243-platzarbeiten-1/
 2024-03-15-15-00?Itemid=101
END:VEVENT
END:VCALENDAR
