BEGIN:VCALENDAR
VERSION:2.0
PRODID:-//Restored website//NONSGML kigkonsult.se iCalcreator 2.30.10//
CALSCALE:GREGORIAN
METHOD:PUBLISH
UID:205da777-f3a8-4e10-9593-eedbbe86d06c
X-WR-CALNAME:iCagenda
X-WR-CALDESC:Event Management Extension for Joomla!
X-WR-RELCALID:3E26604A-50F4-4449-8B3E-E4F4932D05B5
X-WR-TIMEZONE:UTC
BEGIN:VTIMEZONE
TZID:UTC
END:VTIMEZONE
BEGIN:VEVENT
UID:69a6b493-f0c6-4db1-95c1-02082685e219
DTSTAMP:20260421T134717Z
CATEGORIES:Tennis
CLASS:PUBLIC
DESCRIPTION:
DTSTART:20241003T110000Z
DTEND:20241003T110000Z
GEO:00;0
LOCATION:Tennisplätze
ORGANIZER:
SEQUENCE:1
SUMMARY:Federweißenturnier
TRANSP:OPAQUE
URL:https://phantasie.org/index.php/component/icagenda/248-federweissenturn
 ier/2024-10-03-11-00?Itemid=101
END:VEVENT
END:VCALENDAR
