BEGIN:VCALENDAR
VERSION:2.0
PRODID:-//Restored website//NONSGML kigkonsult.se iCalcreator 2.30.10//
CALSCALE:GREGORIAN
METHOD:PUBLISH
UID:6ceee8d3-49e5-44d4-9b56-8b05309216e1
X-WR-CALNAME:iCagenda
X-WR-CALDESC:Event Management Extension for Joomla!
X-WR-RELCALID:3E26604A-50F4-4449-8B3E-E4F4932D05B5
X-WR-TIMEZONE:UTC
BEGIN:VTIMEZONE
TZID:UTC
END:VTIMEZONE
BEGIN:VEVENT
UID:a657c271-8352-4e9e-b5fc-d96fa5510901
DTSTAMP:20260421T015800Z
CATEGORIES:Verein
CLASS:PUBLIC
DESCRIPTION;ALTREP="CID:<FFFF__=0ABBE548DFE235B58f9e8a93d@coffeebean.com>":
 Wahl der Abteilungsleitung
DTSTART:20230111T163000Z
DTEND:20230111T163000Z
GEO:00;0
LOCATION:
ORGANIZER:
SEQUENCE:1
SUMMARY:Kinderturnen
TRANSP:OPAQUE
URL:https://phantasie.org/index.php/component/icagenda/25-kinderturnen/2023
 -01-11-16-30?Itemid=101
END:VEVENT
END:VCALENDAR
