BEGIN:VCALENDAR
VERSION:2.0
PRODID:-//Restored website//NONSGML kigkonsult.se iCalcreator 2.30.10//
CALSCALE:GREGORIAN
METHOD:PUBLISH
UID:d908e58c-9f46-4371-b1ff-731624046574
X-WR-CALNAME:iCagenda
X-WR-CALDESC:Event Management Extension for Joomla!
X-WR-RELCALID:3E26604A-50F4-4449-8B3E-E4F4932D05B5
X-WR-TIMEZONE:UTC
BEGIN:VTIMEZONE
TZID:UTC
END:VTIMEZONE
BEGIN:VEVENT
UID:f148dc81-0780-4f95-80f0-ede2e5447865
DTSTAMP:20260423T080921Z
CATEGORIES:Tennis
CLASS:PUBLIC
DESCRIPTION:
DTSTART:20241124T180000Z
DTEND:20241124T180000Z
GEO:00;0
LOCATION:Gasthaus Goldener Engel
ORGANIZER:
SEQUENCE:1
SUMMARY:Gänsessen
TRANSP:OPAQUE
URL:https://phantasie.org/index.php/component/icagenda/250-gaensessen/2024-
 11-24-18-00?Itemid=101
END:VEVENT
END:VCALENDAR
