BEGIN:VCALENDAR
VERSION:2.0
PRODID:-//Restored website//NONSGML kigkonsult.se iCalcreator 2.30.10//
CALSCALE:GREGORIAN
METHOD:PUBLISH
UID:a85d455d-17af-42d8-af65-7db862bc0c9b
X-WR-CALNAME:iCagenda
X-WR-CALDESC:Event Management Extension for Joomla!
X-WR-RELCALID:3E26604A-50F4-4449-8B3E-E4F4932D05B5
X-WR-TIMEZONE:UTC
BEGIN:VTIMEZONE
TZID:UTC
END:VTIMEZONE
BEGIN:VEVENT
UID:8f5cc058-a170-404e-8406-57cff22122c4
DTSTAMP:20260425T034604Z
CATEGORIES:Tennis_Arbeitseinsatz
CLASS:PUBLIC
DESCRIPTION:
DTSTART:20230331T160000Z
DTEND:20230331T160000Z
GEO:00;0
LOCATION:Tennisplätze
ORGANIZER:
SEQUENCE:1
SUMMARY:1. Arbeitseinsatz
TRANSP:OPAQUE
URL:https://phantasie.org/index.php/component/icagenda/30-1-arbeitseinsatz/
 2023-03-31-16-00?Itemid=101
END:VEVENT
END:VCALENDAR
