BEGIN:VCALENDAR
VERSION:2.0
PRODID:-//Restored website//NONSGML kigkonsult.se iCalcreator 2.30.10//
CALSCALE:GREGORIAN
METHOD:PUBLISH
UID:8b797b94-00f6-41d0-bbd2-93f979b2cc13
X-WR-CALNAME:iCagenda
X-WR-CALDESC:Event Management Extension for Joomla!
X-WR-RELCALID:3E26604A-50F4-4449-8B3E-E4F4932D05B5
X-WR-TIMEZONE:UTC
BEGIN:VTIMEZONE
TZID:UTC
END:VTIMEZONE
BEGIN:VEVENT
UID:88ec27c0-df19-4111-966f-ad483f6d9a5a
DTSTAMP:20260424T052636Z
CATEGORIES:Tennis_Arbeitseinsatz
CLASS:PUBLIC
DESCRIPTION:
DTSTART:20230401T100000Z
DTEND:20230401T100000Z
GEO:00;0
LOCATION:Tennisplätze
ORGANIZER:
SEQUENCE:1
SUMMARY:2. Arbeitseinsatz
TRANSP:OPAQUE
URL:https://phantasie.org/index.php/component/icagenda/31-2-arbeitseinsatz/
 2023-04-01-10-00?Itemid=101
END:VEVENT
END:VCALENDAR
