BEGIN:VCALENDAR
VERSION:2.0
PRODID:-//Restored website//NONSGML kigkonsult.se iCalcreator 2.30.10//
CALSCALE:GREGORIAN
METHOD:PUBLISH
UID:6cf7e328-f074-4c9e-adde-cc12c93b7d92
X-WR-CALNAME:iCagenda
X-WR-CALDESC:Event Management Extension for Joomla!
X-WR-RELCALID:3E26604A-50F4-4449-8B3E-E4F4932D05B5
X-WR-TIMEZONE:UTC
BEGIN:VTIMEZONE
TZID:UTC
END:VTIMEZONE
BEGIN:VEVENT
UID:f492125c-8153-499f-ad27-46d5025f4dfb
DTSTAMP:20260423T080913Z
CATEGORIES:Tennis_Arbeitseinsatz
CLASS:PUBLIC
DESCRIPTION:
DTSTART:20230414T160000Z
DTEND:20230414T160000Z
GEO:00;0
LOCATION:Tennisplätze
ORGANIZER:
SEQUENCE:1
SUMMARY:4. Arbeitseinsatz
TRANSP:OPAQUE
URL:https://phantasie.org/index.php/component/icagenda/33-4-arbeitseinsatz/
 2023-04-14-16-00?Itemid=101
END:VEVENT
END:VCALENDAR
