BEGIN:VCALENDAR
VERSION:2.0
PRODID:-//Restored website//NONSGML kigkonsult.se iCalcreator 2.30.10//
CALSCALE:GREGORIAN
METHOD:PUBLISH
UID:65683008-98cb-4334-8261-befaa3c134a1
X-WR-CALNAME:iCagenda
X-WR-CALDESC:Event Management Extension for Joomla!
X-WR-RELCALID:3E26604A-50F4-4449-8B3E-E4F4932D05B5
X-WR-TIMEZONE:UTC
BEGIN:VTIMEZONE
TZID:UTC
END:VTIMEZONE
BEGIN:VEVENT
UID:204003ae-323f-48aa-9d52-e98978db1a15
DTSTAMP:20260420T171621Z
CATEGORIES:Spiele_Volleyball_Frauen
CLASS:PUBLIC
DESCRIPTION:
DTSTART:20250118T140000Z
DTEND:20250118T140000Z
GEO:00;0
LOCATION:Spielort: Rothenburg
ORGANIZER:
SEQUENCE:1
SUMMARY:TSV Dinkelsbühl - TSV Fr.
TRANSP:OPAQUE
URL:https://phantasie.org/index.php/component/icagenda/376-tsv-dinkelsbuehl
 -tsv-fr-2/2025-01-18-14-00?Itemid=101
END:VEVENT
END:VCALENDAR
