BEGIN:VCALENDAR
VERSION:2.0
PRODID:-//Restored website//NONSGML kigkonsult.se iCalcreator 2.30.10//
CALSCALE:GREGORIAN
METHOD:PUBLISH
UID:07fd9079-7157-4bce-853e-dd4b09c55e02
X-WR-CALNAME:iCagenda
X-WR-CALDESC:Event Management Extension for Joomla!
X-WR-RELCALID:3E26604A-50F4-4449-8B3E-E4F4932D05B5
X-WR-TIMEZONE:UTC
BEGIN:VTIMEZONE
TZID:UTC
END:VTIMEZONE
BEGIN:VEVENT
UID:d42ead1b-c5a1-40c0-88de-9a846336fb93
DTSTAMP:20260422T060020Z
CATEGORIES:Spiele_Volleyball_Maenner
CLASS:PUBLIC
DESCRIPTION:
DTSTART:20250222T140000Z
DTEND:20250222T140000Z
GEO:00;0
LOCATION:Spielort: Burgbernheim
ORGANIZER:
SEQUENCE:1
SUMMARY:TSV Män. - VSG TSV 1860 Weißenburg / TV 06 Thalmässing - TSV Dinkel
 sbühl
TRANSP:OPAQUE
URL:https://phantasie.org/index.php/component/icagenda/381-tsv-maen-vsg-tsv
 -1860-weissenburg-tv-06-thalmaessing-tsv-dinkelsbuehl/2025-02-22-14-00?Ite
 mid=101
END:VEVENT
END:VCALENDAR
