BEGIN:VCALENDAR
VERSION:2.0
PRODID:-//Restored website//NONSGML kigkonsult.se iCalcreator 2.30.10//
CALSCALE:GREGORIAN
METHOD:PUBLISH
UID:3f9e2611-2717-4521-ba75-1516c45cf44c
X-WR-CALNAME:iCagenda
X-WR-CALDESC:Event Management Extension for Joomla!
X-WR-RELCALID:3E26604A-50F4-4449-8B3E-E4F4932D05B5
X-WR-TIMEZONE:UTC
BEGIN:VTIMEZONE
TZID:UTC
END:VTIMEZONE
BEGIN:VEVENT
UID:e7cabb5a-f02a-4653-8adc-c6ea299028af
DTSTAMP:20260424T045216Z
CATEGORIES:Tennis_Arbeitseinsatz
CLASS:PUBLIC
DESCRIPTION:
DTSTART:20231013T150000Z
DTEND:20231013T150000Z
GEO:00;0
LOCATION:Tennisplätze
ORGANIZER:
SEQUENCE:1
SUMMARY:5. Arbeitseinsatz
TRANSP:OPAQUE
URL:https://phantasie.org/index.php/component/icagenda/42-5-arbeitseinsatz/
 2023-10-13-15-00?Itemid=101
END:VEVENT
END:VCALENDAR
