BEGIN:VCALENDAR
VERSION:2.0
PRODID:-//Restored website//NONSGML kigkonsult.se iCalcreator 2.30.10//
CALSCALE:GREGORIAN
METHOD:PUBLISH
UID:029793bb-61c9-4587-a495-9447adf18cc0
X-WR-CALNAME:iCagenda
X-WR-CALDESC:Event Management Extension for Joomla!
X-WR-RELCALID:3E26604A-50F4-4449-8B3E-E4F4932D05B5
X-WR-TIMEZONE:UTC
BEGIN:VTIMEZONE
TZID:UTC
END:VTIMEZONE
BEGIN:VEVENT
UID:b0147fc0-daf2-4499-b30d-c989194d16eb
DTSTAMP:20260422T022914Z
CATEGORIES:Volleyball U14w
CLASS:PUBLIC
DESCRIPTION:
DTSTART:20250112T100000Z
DTEND:20250112T100000Z
GEO:00;0
LOCATION:Spielort: Burgbernheim
ORGANIZER:
SEQUENCE:1
SUMMARY:U14w  Mittelfränkische Meisterschaft
TRANSP:OPAQUE
URL:https://phantasie.org/index.php/component/icagenda/421-u14w-mittelfraen
 kische-meisterschaft/2025-01-12-10-00?Itemid=101
END:VEVENT
END:VCALENDAR
