BEGIN:VCALENDAR
VERSION:2.0
PRODID:-//Restored website//NONSGML kigkonsult.se iCalcreator 2.30.10//
CALSCALE:GREGORIAN
METHOD:PUBLISH
UID:4edf6b09-fc6f-4722-b1fa-0fb202db112d
X-WR-CALNAME:iCagenda
X-WR-CALDESC:Event Management Extension for Joomla!
X-WR-RELCALID:3E26604A-50F4-4449-8B3E-E4F4932D05B5
X-WR-TIMEZONE:UTC
BEGIN:VTIMEZONE
TZID:UTC
END:VTIMEZONE
BEGIN:VEVENT
UID:2523893a-d971-4c66-ac63-fb14e8e10775
DTSTAMP:20260425T013235Z
CATEGORIES:Verein
CLASS:PUBLIC
DESCRIPTION;ALTREP="CID:<FFFF__=0ABBE548DFE235B58f9e8a93d@coffeebean.com>":
 Tagesordnung:\n1.&nbsp\; Begrüßung\n2.&nbsp\; Rückblick auf die letzte Sit
 zung / Sportheim\n3.&nbsp\; Wichtiges aus den Abteilungen\n4.&nbsp\; &nbsp
 \;Kinotage\n5.&nbsp\; Jugendleiter\, Ferienprogramm\n6.&nbsp\; 150 Jahrfei
 er\n7. Sonstiges\nMit sportlichen Grüßen Volker Prehmus 1. Vorstand
DTSTART:20250710T193000Z
DTEND:20250710T193000Z
GEO:00;0
LOCATION:Vereinsheim
ORGANIZER:
SEQUENCE:1
SUMMARY:Vereinsausschuss- und Festsausschusssitzung
TRANSP:OPAQUE
URL:https://phantasie.org/index.php/component/icagenda/450-vereinsausschuss
 sitzung/2025-07-10-19-30?Itemid=101
END:VEVENT
END:VCALENDAR
