BEGIN:VCALENDAR
VERSION:2.0
PRODID:-//Restored website//NONSGML kigkonsult.se iCalcreator 2.30.10//
CALSCALE:GREGORIAN
METHOD:PUBLISH
UID:3733d452-bf03-4796-ad59-3838e264cd48
X-WR-CALNAME:iCagenda
X-WR-CALDESC:Event Management Extension for Joomla!
X-WR-RELCALID:3E26604A-50F4-4449-8B3E-E4F4932D05B5
X-WR-TIMEZONE:UTC
BEGIN:VTIMEZONE
TZID:UTC
END:VTIMEZONE
BEGIN:VEVENT
UID:424f22d3-8fe1-44db-907a-877ab33a3cc7
DTSTAMP:20260422T065632Z
CATEGORIES:Spiele_Volleyball_Frauen
CLASS:PUBLIC
DESCRIPTION:
DTSTART:20251115T140000Z
DTEND:20251115T140000Z
GEO:00;0
LOCATION:Spielort: Fürth
ORGANIZER:
SEQUENCE:1
SUMMARY:SpVgg Greuther Fürth - ASV Veitsbronn - TSV
TRANSP:OPAQUE
URL:https://phantasie.org/index.php/component/icagenda/464-spvgg-greuther-f
 uerth-asv-veitsbronn-tsv/2025-11-15-14-00?Itemid=101
END:VEVENT
END:VCALENDAR
