BEGIN:VCALENDAR
VERSION:2.0
PRODID:-//Restored website//NONSGML kigkonsult.se iCalcreator 2.30.10//
CALSCALE:GREGORIAN
METHOD:PUBLISH
UID:9b47fc75-948b-4c9d-8630-b9be803f1b86
X-WR-CALNAME:iCagenda
X-WR-CALDESC:Event Management Extension for Joomla!
X-WR-RELCALID:3E26604A-50F4-4449-8B3E-E4F4932D05B5
X-WR-TIMEZONE:UTC
BEGIN:VTIMEZONE
TZID:UTC
END:VTIMEZONE
BEGIN:VEVENT
UID:680ab601-94da-452a-b6d3-610f3131b169
DTSTAMP:20260420T112009Z
CATEGORIES:Verein
CLASS:PUBLIC
DESCRIPTION:
DTSTART:20230221T133000Z
DTEND:20230221T133000Z
GEO:00;0
LOCATION:Rodgasse\, Roßmühle
ORGANIZER:
SEQUENCE:1
SUMMARY:Kinderfasching
TRANSP:OPAQUE
URL:https://phantasie.org/index.php/component/icagenda/69-kinderfasching/20
 23-02-21-13-30?Itemid=101
END:VEVENT
END:VCALENDAR
