BEGIN:VCALENDAR
VERSION:2.0
PRODID:-//Restored website//NONSGML kigkonsult.se iCalcreator 2.30.10//
CALSCALE:GREGORIAN
METHOD:PUBLISH
UID:eb3c5d53-a606-4ef5-812f-8aa9064ef22e
X-WR-CALNAME:iCagenda
X-WR-CALDESC:Event Management Extension for Joomla!
X-WR-RELCALID:3E26604A-50F4-4449-8B3E-E4F4932D05B5
X-WR-TIMEZONE:UTC
BEGIN:VTIMEZONE
TZID:UTC
END:VTIMEZONE
BEGIN:VEVENT
UID:ade38fd7-1546-429a-9fa6-d636447e901b
DTSTAMP:20260423T103744Z
CATEGORIES:Spiele_Volleyball_Maenner
CLASS:PUBLIC
DESCRIPTION;ALTREP="CID:<FFFF__=0ABBE548DFE235B58f9e8a93d@coffeebean.com>":
 Spiele gegen Post SV Nürnberg 4 und TSG Solnhofen.Für Unterstützer die gen
 aue Adresse des Spielortes: Johannes Scharrer Gymnasium: Tetzelgasse 20\, 
 Nürnberg\, Eingang über Mummenhoffstraße.
DTSTART:20230204T140000Z
DTEND:20230204T140000Z
GEO:00;0
LOCATION:Spielort: Nürnberg
ORGANIZER:
SEQUENCE:1
SUMMARY:Männer: Post SV Nürnberg - TSG Solnhofen
TRANSP:OPAQUE
URL:https://phantasie.org/index.php/component/icagenda/8-post-sv-nuernberg-
 tsg-solnhofen-tsv/2023-02-04-14-00?Itemid=101
END:VEVENT
END:VCALENDAR
