BEGIN:VCALENDAR
VERSION:2.0
PRODID:-//Restored website//NONSGML kigkonsult.se iCalcreator 2.30.10//
CALSCALE:GREGORIAN
METHOD:PUBLISH
UID:b995f913-f75f-4322-80ee-a5e5408034d4
X-WR-CALNAME:iCagenda
X-WR-CALDESC:Event Management Extension for Joomla!
X-WR-RELCALID:3E26604A-50F4-4449-8B3E-E4F4932D05B5
X-WR-TIMEZONE:UTC
BEGIN:VTIMEZONE
TZID:UTC
END:VTIMEZONE
BEGIN:VEVENT
UID:54300c6c-9f72-484b-9e98-8bfb757a61a4
DTSTAMP:20260422T085854Z
CATEGORIES:E2-Junioren (U11)
CLASS:PUBLIC
DESCRIPTION:
DTSTART:20230422T110000Z
DTEND:20230422T110000Z
GEO:00;0
LOCATION:Burgbernheim
ORGANIZER:
SEQUENCE:1
SUMMARY:E2: SG Bgbh/Mktb - SVG Steinachgrund 2
TRANSP:OPAQUE
URL:https://phantasie.org/index.php/component/icagenda/88-e2-sg-bgbh-mktb-s
 vg-steinachgrund-2/2023-04-22-11-00?Itemid=101
END:VEVENT
END:VCALENDAR
