BEGIN:VCALENDAR
VERSION:2.0
PRODID:-//Restored website//NONSGML kigkonsult.se iCalcreator 2.30.10//
CALSCALE:GREGORIAN
METHOD:PUBLISH
UID:a316794c-665c-4fa9-aec0-0a5512b4f755
X-WR-CALNAME:iCagenda
X-WR-CALDESC:Event Management Extension for Joomla!
X-WR-RELCALID:3E26604A-50F4-4449-8B3E-E4F4932D05B5
X-WR-TIMEZONE:UTC
BEGIN:VTIMEZONE
TZID:UTC
END:VTIMEZONE
BEGIN:VEVENT
UID:4022b9c4-cd91-40f8-83d0-37a6560d2d0f
DTSTAMP:20260421T100329Z
CATEGORIES:E2-Junioren (U11)
CLASS:PUBLIC
DESCRIPTION:
DTSTART:20230429T100000Z
DTEND:20230429T100000Z
GEO:00;0
LOCATION:Ickelheim
ORGANIZER:
SEQUENCE:1
SUMMARY:E2: SG Ips-/Lenkers-/Ickelheim 3 - SG Bgbh/Mktb
TRANSP:OPAQUE
URL:https://phantasie.org/index.php/component/icagenda/89-e2-sg-ips-lenkers
 -ickelheim-3-sg-bgbh-mktb/2023-04-29-10-00?Itemid=101
END:VEVENT
END:VCALENDAR
